BEGIN:VCALENDAR
VERSION:2.0
PRODID:-//Eventin//Event Calendar//EN
CALSCALE:GREGORIAN
METHOD:PUBLISH
BEGIN:VEVENT
UID:80ae8821a505f981334088a1201250c7@eglisau.grunliberale.ch
SUMMARY:90 Minuten Abstimmungstalk
DESCRIPTION:90 Minuten Abstimmungstalk am 13. Mai 2026\nAm Mittwoch\, 13. M
 ai 2026 führt die GLP Eglisau von 19.30 bis 21.00 Uhr in der Schalthalle e
 inen weiteren „90 Minuten Abstimmungstalk“ durch.\nDiesmal widmen wir u
 ns der Initiative\n„Keine 10-Millionen-Schweiz“\,\nüber die wir am 14.
  Juni abstimmen werden.\nNach einer kurzen Erklärung der Initiative diskut
 ieren wir über deren Vor- und Nachteile. Als Gast wird Yannick Maag\, Vors
 tandsmitglied der SVP Eglisau\, die Befürworterseite vertreten.\nGanz beso
 nders laden wir auch diesmal die junge Generation ein\, um über diese Init
 iative mitzudiskutieren\, die weitreichende Folgen für unsere Zukunft hät
 te.\nEine Anmeldung ist nicht notwendig\, Vorwissen auch nicht.\nDie GLP Eg
 lisau freut sich auf eine rege Beteiligung!
LOCATION:Schalthalle Eglisau
DTSTAMP:20260424T064906Z
DTSTART:20260513T173000Z
DTEND:20260513T190000Z
END:VEVENT
END:VCALENDAR
