BEGIN:VCALENDAR
VERSION:2.0
PRODID:-//Eventin//Event Calendar//EN
CALSCALE:GREGORIAN
METHOD:PUBLISH
BEGIN:VEVENT
UID:f9610aa52c9c793dbcc984f3d52e6d2a@eglisau.grunliberale.ch
SUMMARY:Generalversammlung GLP Eglisau 2026
DESCRIPTION:Die GLP Eglisau lädt alle Mitglieder und Sympathisanten zur 4.
  ordentlichen Generalversammlung am Dienstag\, 12. Mai ab 19 Uhr im Restaur
 ant Bahnhof ein. Die offizielle Einladung folgt auf elektronischem Weg.
LOCATION:Restaurant Bahnhof\, Eglisau
DTSTAMP:20260424T064003Z
DTSTART:20260512T170000Z
DTEND:20260512T200000Z
END:VEVENT
END:VCALENDAR
